BEGIN:VCALENDAR
VERSION:2.0
PRODID:-//Worcester Law Society - ECPv5.5.0.1//NONSGML v1.0//EN
CALSCALE:GREGORIAN
METHOD:PUBLISH
X-WR-CALNAME:Worcester Law Society
X-ORIGINAL-URL:https://www.worcestershirelawsociety.com
X-WR-CALDESC:Events for Worcester Law Society
BEGIN:VTIMEZONE
TZID:Europe/London
BEGIN:DAYLIGHT
TZOFFSETFROM:+0000
TZOFFSETTO:+0100
TZNAME:BST
DTSTART:20200329T010000
END:DAYLIGHT
BEGIN:STANDARD
TZOFFSETFROM:+0100
TZOFFSETTO:+0000
TZNAME:GMT
DTSTART:20201025T010000
END:STANDARD
END:VTIMEZONE
BEGIN:VEVENT
DTSTART;TZID=Europe/London:20200318T180000
DTEND;TZID=Europe/London:20200318T203000
DTSTAMP:20260426T021752
CREATED:20200220T135259Z
LAST-MODIFIED:20200220T135406Z
UID:861-1584554400-1584563400@www.worcestershirelawsociety.com
SUMMARY:Wine Tasting Evening
DESCRIPTION:Join us for a night of Wine Tasting at Bottles Wine Bar\n\n\n\n\n\n\nAbout this Event\n\n\nJoin us and other members of the Worcestershire Law Society for an evening of Wine Tasting at Bottles Wine Bar\, Worcester \nThe evening will consist of tasting 4 wines with the guidance and knowledge of a professional sommelier and these wines will also be accompanied by some nibbles to compliment the wines. \nThere will of course also be plenty of opportunity to network and also try more wines on offer after the official wine tasting!
URL:https://www.worcestershirelawsociety.com/event/wine-tasting-evening/
LOCATION:Bottles Wine Bar\, 22 - 24 New Street\, Wworcester\, WR1 2DP\, United Kingdom
ORGANIZER;CN="Worcestershire%20Law%20Society":MAILTO:info@worcestershirelawsociety.com
END:VEVENT
END:VCALENDAR