BEGIN:VCALENDAR
VERSION:2.0
PRODID:-//Worcester Law Society - ECPv5.5.0.1//NONSGML v1.0//EN
CALSCALE:GREGORIAN
METHOD:PUBLISH
X-WR-CALNAME:Worcester Law Society
X-ORIGINAL-URL:https://www.worcestershirelawsociety.com
X-WR-CALDESC:Events for Worcester Law Society
BEGIN:VTIMEZONE
TZID:Europe/London
BEGIN:DAYLIGHT
TZOFFSETFROM:+0000
TZOFFSETTO:+0100
TZNAME:BST
DTSTART:20190331T010000
END:DAYLIGHT
BEGIN:STANDARD
TZOFFSETFROM:+0100
TZOFFSETTO:+0000
TZNAME:GMT
DTSTART:20191027T010000
END:STANDARD
END:VTIMEZONE
BEGIN:VEVENT
DTSTART;TZID=Europe/London:20190515T140000
DTEND;TZID=Europe/London:20190515T170000
DTSTAMP:20260426T052906
CREATED:20190415T110541Z
LAST-MODIFIED:20190415T110541Z
UID:736-1557928800-1557939600@www.worcestershirelawsociety.com
SUMMARY:Digital Legacy Workshop
DESCRIPTION:
URL:https://www.worcestershirelawsociety.com/event/managing-digital-legacy-worcester/
LOCATION:The Hive\, Sawmill Walk\, The Butts\, Worcester\, WR1 3PD
END:VEVENT
END:VCALENDAR